BEGIN:VCALENDAR
VERSION:2.0
PRODID:-//Jamaica Hospital Nursing Home - ECPv6.0.8//NONSGML v1.0//EN
CALSCALE:GREGORIAN
METHOD:PUBLISH
X-WR-CALNAME:Jamaica Hospital Nursing Home
X-ORIGINAL-URL:https://jamaicahospitalnursinghome.org
X-WR-CALDESC:Events for Jamaica Hospital Nursing Home
REFRESH-INTERVAL;VALUE=DURATION:PT1H
X-Robots-Tag:noindex
X-PUBLISHED-TTL:PT1H
BEGIN:VTIMEZONE
TZID:UTC
BEGIN:STANDARD
TZOFFSETFROM:+0000
TZOFFSETTO:+0000
TZNAME:UTC
DTSTART:20230101T000000
END:STANDARD
END:VTIMEZONE
BEGIN:VEVENT
DTSTART;TZID=UTC:20230228T084800
DTEND;TZID=UTC:20230501T084800
DTSTAMP:20260419T163932
CREATED:20150214T145844Z
LAST-MODIFIED:20230222T212402Z
UID:188-1677574080-1682930880@jamaicahospitalnursinghome.org
SUMMARY:Acupunture Services
DESCRIPTION:As we get older\, those aches and pains become a little more pronounced and life begins to create some new challenges. For many seniors\, schedules become impacted with doctor’s appointments and trips to the pharmacy. If you haven’t tried acupuncture\, here are three reasons you should give it a try as it can greatly help some of the greatest health challenges facing seniors today.  \nPain Relief\nStudies have shown that acupuncture is highly effective at treating chronic pain conditions. For example\, rheumatoid arthritis is commonly treated with acupuncture. Of course\, the frequency\, length and number of treatments will vary depending on the severity of the condition\, but acupuncture has been proven to be a powerful tool in addressing the inflammation common in arthritis\, which then relieves the pain\, discomfort\, and swelling that often comes with the disease.  \nAcupuncture has been shown to be highly effective at treating back and neck pain as well as neuropathy pain\, particularly for those with diabetes. Neuropathy impacts the peripheral nerves of the body and for those suffering from it\, it feels like a tingling or burning sensation in the legs or arms. Acupuncture helps by promoting nerve conduction.
URL:https://jamaicahospitalnursinghome.org/event/acupunture-services/
CATEGORIES:Activities
ATTACH;FMTTYPE=image/jpeg:https://jamaicahospitalnursinghome.org/wp-content/uploads/2015/02/GettyImages-543074918.jpg
END:VEVENT
END:VCALENDAR